BEGIN:VCALENDAR
VERSION:2.0
PRODID:-//Au Bois des Ludes - ECPv6.3.2//NONSGML v1.0//EN
CALSCALE:GREGORIAN
METHOD:PUBLISH
X-ORIGINAL-URL:http://www.auboisdesludes.com
X-WR-CALDESC:évènements pour Au Bois des Ludes
REFRESH-INTERVAL;VALUE=DURATION:PT1H
X-Robots-Tag:noindex
X-PUBLISHED-TTL:PT1H
BEGIN:VTIMEZONE
TZID:Europe/Paris
BEGIN:DAYLIGHT
TZOFFSETFROM:+0100
TZOFFSETTO:+0200
TZNAME:CEST
DTSTART:20250330T010000
END:DAYLIGHT
BEGIN:STANDARD
TZOFFSETFROM:+0200
TZOFFSETTO:+0100
TZNAME:CET
DTSTART:20251026T010000
END:STANDARD
END:VTIMEZONE
BEGIN:VEVENT
DTSTART;TZID=Europe/Paris:20250108T193000
DTEND;TZID=Europe/Paris:20250624T230000
DTSTAMP:20260424T194005
CREATED:20241221T105126Z
LAST-MODIFIED:20241221T105552Z
UID:50690-1736364600-1750806000@www.auboisdesludes.com
SUMMARY:Soirées Magic
DESCRIPTION:
URL:http://www.auboisdesludes.com/event/soirees-magic-3/
LOCATION:Ludothèque de Tinténiac\, Tinténiac
ATTACH;FMTTYPE=image/png:http://www.auboisdesludes.com/wp-content/uploads/2024/12/LUDOLIRE-15.png
END:VEVENT
BEGIN:VEVENT
DTSTART;TZID=Europe/Paris:20250110T203000
DTEND;TZID=Europe/Paris:20250606T203000
DTSTAMP:20260424T194005
CREATED:20250111T102951Z
LAST-MODIFIED:20250111T102951Z
UID:50930-1736541000-1749241800@www.auboisdesludes.com
SUMMARY:Soirée jeux (adultes)
DESCRIPTION:Organisées par des bénévoles\, ces soirées jeux sont gratuites et ouvertes à tous et toutes. \nN’hésitez pas à apporter vos jeux préférés. \nRendez-vous à 20h30 dans la salle située au-dessus de la médiathèque.
URL:http://www.auboisdesludes.com/event/soiree-jeux-adultes-14/
LOCATION:Meillac
ATTACH;FMTTYPE=image/png:http://www.auboisdesludes.com/wp-content/uploads/2025/01/LUDOLIRE-21.png
END:VEVENT
BEGIN:VEVENT
DTSTART;TZID=Europe/Paris:20250301T140000
DTEND;TZID=Europe/Paris:20250625T170000
DTSTAMP:20260424T194005
CREATED:20250301T095217Z
LAST-MODIFIED:20250301T095217Z
UID:51775-1740837600-1750870800@www.auboisdesludes.com
SUMMARY:Club d'échecs
DESCRIPTION:Les bénévoles d’Au Bois des Ludes vous accueillent à la ludothèque de Combourg\, dans le magasin Biocoop\, pour apprendre à jouer aux échecs ou à vous perfectionner. \nGratuit\, ouvert à tous les adhérent.e.s\, dès 6-7 ans (les enfants sont sous votre responsabilité. Les bénévoles ne peuvent pas être tenus responsables). \nChaque 1er samedi du mois\, de 14h à 16h. \nChaque mercredi\, de 17h à 18h30. \n 
URL:http://www.auboisdesludes.com/event/club-dechecs-25/
LOCATION:Ludothèque de Combourg\, ZR Moulin Madame\, Combourg
ATTACH;FMTTYPE=image/jpeg:http://www.auboisdesludes.com/wp-content/uploads/2024/01/chess-5987411_1280.jpg
END:VEVENT
BEGIN:VEVENT
DTSTART;TZID=Europe/Paris:20250303T180000
DTEND;TZID=Europe/Paris:20250429T180000
DTSTAMP:20260424T194005
CREATED:20250218T102130Z
LAST-MODIFIED:20250218T102951Z
UID:51633-1741024800-1745949600@www.auboisdesludes.com
SUMMARY:Enquête à l'école de magie à Saint-Thual
DESCRIPTION:Jeu d’enquête gratuit et en libre accès sur les horaires d’ouverture de la bibliothèque. A partir de 8-10 ans.
URL:http://www.auboisdesludes.com/event/enquete-a-lecole-de-magie-a-saint-thual/
LOCATION:Bibliothèque de Saint-Thual
ATTACH;FMTTYPE=image/png:http://www.auboisdesludes.com/wp-content/uploads/2025/02/LUDOLIRE-37.png
END:VEVENT
BEGIN:VEVENT
DTSTART;VALUE=DATE:20250420
DTEND;VALUE=DATE:20250421
DTSTAMP:20260424T194005
CREATED:20250125T093704Z
LAST-MODIFIED:20250412T084836Z
UID:51165-1745107200-1745193599@www.auboisdesludes.com
SUMMARY:Les 20 ans d'Au Bois des Ludes !
DESCRIPTION:Un anniversaire plein de surprises ! \nDe nombreuses animations vous seront proposées par les bénévoles d’Au Bois des Ludes. \nAu programme: \njeux de société cultes\, jeux géants\, espace tout-petits\, initiation Donjons & Dragons\, initiations et tournois d’échecs\, initiation et tournoi de magic\, escape game\, quizzes surprises\, tirage au sort\, goûter et plein d’autres surprises! \nPour vous inscrire\, c’est ici : Invitation – Formulaire de réponse – Google Forms \nEt si vous aviez envie de donner un peu de votre temps sur cette belle journée\, n’hésitez pas à rejoindre l’équipe des bénévoles. Nous ne serons jamais trop nombreux pour accueillir\, animer\, accompagner\, servir\, installer\, ranger\, faire jouer…\nMerci ! \n  \n 
URL:http://www.auboisdesludes.com/event/les-20-ans-dau-bois-des-ludes/
LOCATION:Espace Ille et Donac\, Tinténiac
ATTACH;FMTTYPE=image/png:http://www.auboisdesludes.com/wp-content/uploads/2025/01/tres-belle-annee-2022-9.png
END:VEVENT
END:VCALENDAR