BEGIN:VCALENDAR
VERSION:2.0
PRODID:-//Au Bois des Ludes - ECPv6.3.2//NONSGML v1.0//EN
CALSCALE:GREGORIAN
METHOD:PUBLISH
X-WR-CALNAME:Au Bois des Ludes
X-ORIGINAL-URL:http://www.auboisdesludes.com
X-WR-CALDESC:évènements pour Au Bois des Ludes
REFRESH-INTERVAL;VALUE=DURATION:PT1H
X-Robots-Tag:noindex
X-PUBLISHED-TTL:PT1H
BEGIN:VTIMEZONE
TZID:Europe/Paris
BEGIN:DAYLIGHT
TZOFFSETFROM:+0100
TZOFFSETTO:+0200
TZNAME:CEST
DTSTART:20250330T010000
END:DAYLIGHT
BEGIN:STANDARD
TZOFFSETFROM:+0200
TZOFFSETTO:+0100
TZNAME:CET
DTSTART:20251026T010000
END:STANDARD
BEGIN:DAYLIGHT
TZOFFSETFROM:+0100
TZOFFSETTO:+0200
TZNAME:CEST
DTSTART:20260329T010000
END:DAYLIGHT
BEGIN:STANDARD
TZOFFSETFROM:+0200
TZOFFSETTO:+0100
TZNAME:CET
DTSTART:20261025T010000
END:STANDARD
END:VTIMEZONE
BEGIN:VEVENT
DTSTART;TZID=Europe/Paris:20251119T160000
DTEND;TZID=Europe/Paris:20260701T180000
DTSTAMP:20260420T054941
CREATED:20251118T100754Z
LAST-MODIFIED:20251118T100754Z
UID:55100-1763568000-1782928800@www.auboisdesludes.com
SUMMARY:Club de tarot à Combourg
DESCRIPTION:
URL:http://www.auboisdesludes.com/event/club-de-tarot-a-combourg/
LOCATION:Ludothèque de Combourg\, ZR Moulin Madame\, Combourg
ATTACH;FMTTYPE=image/png:http://www.auboisdesludes.com/wp-content/uploads/2025/11/LUDOLIRE-62.png
END:VEVENT
BEGIN:VEVENT
DTSTART;TZID=Europe/Paris:20251205T203000
DTEND;TZID=Europe/Paris:20260703T203000
DTSTAMP:20260420T054941
CREATED:20251118T100509Z
LAST-MODIFIED:20251118T100509Z
UID:55094-1764966600-1783110600@www.auboisdesludes.com
SUMMARY:Soirée jeux adultes
DESCRIPTION:Gratuit et ouvert à tous les adultes. \nA 20h30 dans la salle située au-dessus de la médiathèque de Meillac\, face à la mairie. \nMerci beaucoup à la commune de Meillac pour son accueil! \nN’hésitez pas à apporter vos jeux.
URL:http://www.auboisdesludes.com/event/soiree-jeux-adultes-15/
LOCATION:Meillac
ATTACH;FMTTYPE=image/png:http://www.auboisdesludes.com/wp-content/uploads/2025/11/LUDOLIRE-67.png
END:VEVENT
BEGIN:VEVENT
DTSTART;TZID=Europe/Paris:20260207T140000
DTEND;TZID=Europe/Paris:20260704T160000
DTSTAMP:20260420T054941
CREATED:20260131T102618Z
LAST-MODIFIED:20260131T102618Z
UID:55595-1770472800-1783180800@www.auboisdesludes.com
SUMMARY:Club d'échecs
DESCRIPTION:Une rencontre chaque samedi après-midi\, entre 14h et 16h\, pour jouer et progresser dans une ambiance conviviale. \nLa ludothèque de Combourg se situe à l’intérieur du magasin Biocoop.
URL:http://www.auboisdesludes.com/event/club-dechecs-26/
LOCATION:Ludothèque de Combourg\, ZR Moulin Madame\, Combourg
ATTACH;FMTTYPE=image/png:http://www.auboisdesludes.com/wp-content/uploads/2026/01/LUDOLIRE-92.png
END:VEVENT
BEGIN:VEVENT
DTSTART;TZID=Europe/Paris:20260217T180000
DTEND;TZID=Europe/Paris:20260227T210000
DTSTAMP:20260420T054941
CREATED:20260217T101849Z
LAST-MODIFIED:20260217T101949Z
UID:55720-1771351200-1772226000@www.auboisdesludes.com
SUMMARY:Esacpe game "enquête à Baker Street"
DESCRIPTION:Sherlock Holmes vous met au défi ! \nEscape game à partir de 8 ans\, 45 min de jeux environ. \nInscriptions uniquement via Hello Asso :
URL:http://www.auboisdesludes.com/event/esacpe-game-enquete-a-baker-street/
LOCATION:Le Sim école de musique\, rue de Saint Mirel\, Place Ille et Donac\, Tinténiac\, France
ATTACH;FMTTYPE=image/jpeg:http://www.auboisdesludes.com/wp-content/uploads/2026/02/pexels-marie-claude-vergne-316473708-30443144-scaled.jpg
END:VEVENT
BEGIN:VEVENT
DTSTART;TZID=Europe/Paris:20260218T103000
DTEND;TZID=Europe/Paris:20260218T120000
DTSTAMP:20260420T054941
CREATED:20260127T101829Z
LAST-MODIFIED:20260127T101829Z
UID:55539-1771410600-1771416000@www.auboisdesludes.com
SUMMARY:Ludolire "créatures fantastiques"
DESCRIPTION:1h30 de lecture et jeu à la médiathèque de Meillac. \nGratuit
URL:http://www.auboisdesludes.com/event/ludolire-creatures-fantastiques-2/
LOCATION:Médiathèque de Meillac
ATTACH;FMTTYPE=image/png:http://www.auboisdesludes.com/wp-content/uploads/2026/01/LUDOLIRE-85.png
END:VEVENT
BEGIN:VEVENT
DTSTART;TZID=Europe/Paris:20260218T163000
DTEND;TZID=Europe/Paris:20260218T180000
DTSTAMP:20260420T054941
CREATED:20251206T103138Z
LAST-MODIFIED:20251206T103138Z
UID:55199-1771432200-1771437600@www.auboisdesludes.com
SUMMARY:Ludolire "il fait froid!"
DESCRIPTION:1h30 de jeux et lectures. \nGratuit\, sans inscription.
URL:http://www.auboisdesludes.com/event/ludolire-il-fait-froid/
LOCATION:bibliothèque de Hédé-Bazouges
ATTACH;FMTTYPE=image/png:http://www.auboisdesludes.com/wp-content/uploads/2025/12/LUDOLIRE-71.png
END:VEVENT
END:VCALENDAR