BEGIN:VCALENDAR
VERSION:2.0
PRODID:-//Au Bois des Ludes - ECPv6.3.2//NONSGML v1.0//EN
CALSCALE:GREGORIAN
METHOD:PUBLISH
X-WR-CALNAME:Au Bois des Ludes
X-ORIGINAL-URL:http://www.auboisdesludes.com
X-WR-CALDESC:évènements pour Au Bois des Ludes
REFRESH-INTERVAL;VALUE=DURATION:PT1H
X-Robots-Tag:noindex
X-PUBLISHED-TTL:PT1H
BEGIN:VTIMEZONE
TZID:Europe/Paris
BEGIN:DAYLIGHT
TZOFFSETFROM:+0100
TZOFFSETTO:+0200
TZNAME:CEST
DTSTART:20250330T010000
END:DAYLIGHT
BEGIN:STANDARD
TZOFFSETFROM:+0200
TZOFFSETTO:+0100
TZNAME:CET
DTSTART:20251026T010000
END:STANDARD
END:VTIMEZONE
BEGIN:VEVENT
DTSTART;TZID=Europe/Paris:20250108T193000
DTEND;TZID=Europe/Paris:20250624T230000
DTSTAMP:20260424T164817
CREATED:20241221T105126Z
LAST-MODIFIED:20241221T105552Z
UID:50690-1736364600-1750806000@www.auboisdesludes.com
SUMMARY:Soirées Magic
DESCRIPTION:
URL:http://www.auboisdesludes.com/event/soirees-magic-3/
LOCATION:Ludothèque de Tinténiac\, Tinténiac
ATTACH;FMTTYPE=image/png:http://www.auboisdesludes.com/wp-content/uploads/2024/12/LUDOLIRE-15.png
END:VEVENT
BEGIN:VEVENT
DTSTART;TZID=Europe/Paris:20250110T203000
DTEND;TZID=Europe/Paris:20250606T203000
DTSTAMP:20260424T164817
CREATED:20250111T102951Z
LAST-MODIFIED:20250111T102951Z
UID:50930-1736541000-1749241800@www.auboisdesludes.com
SUMMARY:Soirée jeux (adultes)
DESCRIPTION:Organisées par des bénévoles\, ces soirées jeux sont gratuites et ouvertes à tous et toutes. \nN’hésitez pas à apporter vos jeux préférés. \nRendez-vous à 20h30 dans la salle située au-dessus de la médiathèque.
URL:http://www.auboisdesludes.com/event/soiree-jeux-adultes-14/
LOCATION:Meillac
ATTACH;FMTTYPE=image/png:http://www.auboisdesludes.com/wp-content/uploads/2025/01/LUDOLIRE-21.png
END:VEVENT
BEGIN:VEVENT
DTSTART;TZID=Europe/Paris:20250301T140000
DTEND;TZID=Europe/Paris:20250625T170000
DTSTAMP:20260424T164817
CREATED:20250301T095217Z
LAST-MODIFIED:20250301T095217Z
UID:51775-1740837600-1750870800@www.auboisdesludes.com
SUMMARY:Club d'échecs
DESCRIPTION:Les bénévoles d’Au Bois des Ludes vous accueillent à la ludothèque de Combourg\, dans le magasin Biocoop\, pour apprendre à jouer aux échecs ou à vous perfectionner. \nGratuit\, ouvert à tous les adhérent.e.s\, dès 6-7 ans (les enfants sont sous votre responsabilité. Les bénévoles ne peuvent pas être tenus responsables). \nChaque 1er samedi du mois\, de 14h à 16h. \nChaque mercredi\, de 17h à 18h30. \n 
URL:http://www.auboisdesludes.com/event/club-dechecs-25/
LOCATION:Ludothèque de Combourg\, ZR Moulin Madame\, Combourg
ATTACH;FMTTYPE=image/jpeg:http://www.auboisdesludes.com/wp-content/uploads/2024/01/chess-5987411_1280.jpg
END:VEVENT
BEGIN:VEVENT
DTSTART;TZID=Europe/Paris:20250503T080000
DTEND;TZID=Europe/Paris:20250627T170000
DTSTAMP:20260424T164817
CREATED:20250426T090827Z
LAST-MODIFIED:20250426T090859Z
UID:52339-1746259200-1751043600@www.auboisdesludes.com
SUMMARY:Enquête à l'école de magie
DESCRIPTION:Jeu d’enquête gratuit et en libre accès sur les horaires d’ouverture de la bibliothèque. A partir de 8-10 ans.
URL:http://www.auboisdesludes.com/event/enquete-a-lecole-de-magie-6/
LOCATION:bibliothèque de Pleugueneuc\, 31 rue de Rennes
ATTACH;FMTTYPE=image/png:http://www.auboisdesludes.com/wp-content/uploads/2025/04/LUDOLIRE-52.png
END:VEVENT
BEGIN:VEVENT
DTSTART;TZID=Europe/Paris:20250503T183000
DTEND;TZID=Europe/Paris:20250503T210000
DTSTAMP:20260424T164817
CREATED:20250426T091619Z
LAST-MODIFIED:20250426T091619Z
UID:52348-1746297000-1746306000@www.auboisdesludes.com
SUMMARY:Jeu de rôle ados/adultes
DESCRIPTION:Avec Claude.
URL:http://www.auboisdesludes.com/event/jeu-de-role-ados-adultes/
LOCATION:Ludothèque de Tinténiac\, Tinténiac
ATTACH;FMTTYPE=image/png:http://www.auboisdesludes.com/wp-content/uploads/2025/04/LUDOLIRE-54.png
END:VEVENT
BEGIN:VEVENT
DTSTART;TZID=Europe/Paris:20250507T193000
DTEND;TZID=Europe/Paris:20250507T213000
DTSTAMP:20260424T164817
CREATED:20250426T085709Z
LAST-MODIFIED:20250426T085709Z
UID:52336-1746646200-1746653400@www.auboisdesludes.com
SUMMARY:Jeudi du jeu à l'Elixir : donjons & aventures
DESCRIPTION:Soirée jeux de société à thème\, accessible à toute la clientèle.
URL:http://www.auboisdesludes.com/event/jeudi-du-jeu-a-lelixir-donjons-aventures/
LOCATION:L’Elixir – 7 Place du Cerf\, Le Tronchet
ATTACH;FMTTYPE=image/jpeg:http://www.auboisdesludes.com/wp-content/uploads/2025/04/ai-generated-8209506_1280.jpg
END:VEVENT
BEGIN:VEVENT
DTSTART;TZID=Europe/Paris:20250510T103000
DTEND;TZID=Europe/Paris:20250510T120000
DTSTAMP:20260424T164817
CREATED:20250325T095913Z
LAST-MODIFIED:20250325T095913Z
UID:52006-1746873000-1746878400@www.auboisdesludes.com
SUMMARY:Ludolire à Saint-Domineuc
DESCRIPTION:
URL:http://www.auboisdesludes.com/event/ludolire-a-saint-domineuc/
LOCATION:Bibliothèque de Saint-Domineuc
ATTACH;FMTTYPE=image/png:http://www.auboisdesludes.com/wp-content/uploads/2025/03/LUDOLIRE-41.png
END:VEVENT
BEGIN:VEVENT
DTSTART;TZID=Europe/Paris:20250516T200000
DTEND;TZID=Europe/Paris:20250516T220000
DTSTAMP:20260424T164817
CREATED:20250412T093934Z
LAST-MODIFIED:20250412T093934Z
UID:52213-1747425600-1747432800@www.auboisdesludes.com
SUMMARY:Soirée jeux tout public
DESCRIPTION:
URL:http://www.auboisdesludes.com/event/soiree-jeux-tout-public-8/
LOCATION:bibliothèque de Pleugueneuc\, 31 rue de Rennes
ATTACH;FMTTYPE=image/png:http://www.auboisdesludes.com/wp-content/uploads/2025/04/LUDOLIRE-48.png
END:VEVENT
BEGIN:VEVENT
DTSTART;TZID=Europe/Paris:20250517T143000
DTEND;TZID=Europe/Paris:20250517T163000
DTSTAMP:20260424T164817
CREATED:20250513T092620Z
LAST-MODIFIED:20250513T092620Z
UID:52492-1747492200-1747499400@www.auboisdesludes.com
SUMMARY:Café des parents aidants
DESCRIPTION:
URL:http://www.auboisdesludes.com/event/cafe-des-parents-aidants/
LOCATION:Ludothèque de Tinténiac\, Tinténiac
ATTACH;FMTTYPE=image/png:http://www.auboisdesludes.com/wp-content/uploads/2025/05/LUDOLIRE-57.png
END:VEVENT
BEGIN:VEVENT
DTSTART;TZID=Europe/Paris:20250518T103000
DTEND;TZID=Europe/Paris:20250518T114500
DTSTAMP:20260424T164817
CREATED:20250218T102638Z
LAST-MODIFIED:20250218T102638Z
UID:51644-1747564200-1747568700@www.auboisdesludes.com
SUMMARY:Atelier Snoezelen
DESCRIPTION:
URL:http://www.auboisdesludes.com/event/atelier-snoezelen-9/
LOCATION:Ludothèque de Tinténiac\, Tinténiac
ATTACH;FMTTYPE=image/png:http://www.auboisdesludes.com/wp-content/uploads/2025/02/LUDOLIRE-35.png
END:VEVENT
BEGIN:VEVENT
DTSTART;TZID=Europe/Paris:20250522T103000
DTEND;TZID=Europe/Paris:20250522T113000
DTSTAMP:20260424T164817
CREATED:20250520T085453Z
LAST-MODIFIED:20250520T085453Z
UID:52615-1747909800-1747913400@www.auboisdesludes.com
SUMMARY:Bébé bouquine et joue
DESCRIPTION:Une heure de découverte pour les 0-3 ans : comptines\, histoires et jouets sur le thème des oiseaux. \nGratuit\, pour les tout-petits et leurs parents ou assistantes maternelles.
URL:http://www.auboisdesludes.com/event/bebe-bouquine-et-joue-6/
LOCATION:Médiathèque de Tinténiac\, Place Jean Provost\, Tinténiac\, France
ATTACH;FMTTYPE=image/jpeg:http://www.auboisdesludes.com/wp-content/uploads/2025/05/sparrow-9000467_1280.jpg
END:VEVENT
BEGIN:VEVENT
DTSTART;TZID=Europe/Paris:20250524T100000
DTEND;TZID=Europe/Paris:20250524T183000
DTSTAMP:20260424T164817
CREATED:20250513T091647Z
LAST-MODIFIED:20250513T091902Z
UID:52485-1748080800-1748111400@www.auboisdesludes.com
SUMMARY:Anniversaire Familles Rurales Dingé
DESCRIPTION:Animation jeux surdimensionnés l’après-midi\, dans une ambiance festive et conviviale!
URL:http://www.auboisdesludes.com/event/anniversaire-familles-rurales-dinge/
LOCATION:salle polyvalente de Dingé
ATTACH;FMTTYPE=image/jpeg:http://www.auboisdesludes.com/wp-content/uploads/2025/05/FETONS-NOS-80ANS.jpg
END:VEVENT
END:VCALENDAR