BEGIN:VCALENDAR
VERSION:2.0
PRODID:-//Au Bois des Ludes - ECPv6.3.2//NONSGML v1.0//EN
CALSCALE:GREGORIAN
METHOD:PUBLISH
X-ORIGINAL-URL:http://www.auboisdesludes.com
X-WR-CALDESC:évènements pour Au Bois des Ludes
REFRESH-INTERVAL;VALUE=DURATION:PT1H
X-Robots-Tag:noindex
X-PUBLISHED-TTL:PT1H
BEGIN:VTIMEZONE
TZID:Europe/Paris
BEGIN:DAYLIGHT
TZOFFSETFROM:+0100
TZOFFSETTO:+0200
TZNAME:CEST
DTSTART:20250330T010000
END:DAYLIGHT
BEGIN:STANDARD
TZOFFSETFROM:+0200
TZOFFSETTO:+0100
TZNAME:CET
DTSTART:20251026T010000
END:STANDARD
END:VTIMEZONE
BEGIN:VEVENT
DTSTART;TZID=Europe/Paris:20250908T080000
DTEND;TZID=Europe/Paris:20251103T170000
DTSTAMP:20260420T173531
CREATED:20250513T093406Z
LAST-MODIFIED:20250513T093406Z
UID:52499-1757318400-1762189200@www.auboisdesludes.com
SUMMARY:Enquête à l'école de magie
DESCRIPTION:
URL:http://www.auboisdesludes.com/event/enquete-a-lecole-de-magie-8/
LOCATION:Bibliothèque de la Chapelle Aux Filtzméens
ATTACH;FMTTYPE=image/png:http://www.auboisdesludes.com/wp-content/uploads/2025/05/LUDOLIRE-59.png
END:VEVENT
BEGIN:VEVENT
DTSTART;TZID=Europe/Paris:20250923T080000
DTEND;TZID=Europe/Paris:20251031T170000
DTSTAMP:20260420T173531
CREATED:20250923T093422Z
LAST-MODIFIED:20250923T093422Z
UID:54389-1758614400-1761930000@www.auboisdesludes.com
SUMMARY:"le voleur de mots"
DESCRIPTION:
URL:http://www.auboisdesludes.com/event/le-voleur-de-mots/
LOCATION:Bibliothèque de Plerguer
ATTACH;FMTTYPE=image/png:http://www.auboisdesludes.com/wp-content/uploads/2025/09/LUDOLIRE-48.png
END:VEVENT
BEGIN:VEVENT
DTSTART;TZID=Europe/Paris:20250923T193000
DTEND;TZID=Europe/Paris:20251216T233000
DTSTAMP:20260420T173531
CREATED:20250923T093621Z
LAST-MODIFIED:20250923T094020Z
UID:54393-1758655800-1765927800@www.auboisdesludes.com
SUMMARY:Soirées Magic et jeux de société
DESCRIPTION:
URL:http://www.auboisdesludes.com/event/soiree-magic-et-jeux-de-societe-adultes/
LOCATION:Ludothèque de Tinténiac\, Tinténiac
ATTACH;FMTTYPE=image/png:http://www.auboisdesludes.com/wp-content/uploads/2025/09/LUDOLIRE-49.png
END:VEVENT
BEGIN:VEVENT
DTSTART;TZID=Europe/Paris:20251001T103000
DTEND;TZID=Europe/Paris:20251001T120000
DTSTAMP:20260420T173531
CREATED:20250730T155808Z
LAST-MODIFIED:20250730T155808Z
UID:53268-1759314600-1759320000@www.auboisdesludes.com
SUMMARY:Ludolire
DESCRIPTION:Lectures et jeux pour toute la famille. \nGratuit.
URL:http://www.auboisdesludes.com/event/ludolire-4/
LOCATION:Médiathèque de Meillac
ATTACH;FMTTYPE=image/png:http://www.auboisdesludes.com/wp-content/uploads/2025/07/LUDOLIRE-2025-07-23T161129.616.png
END:VEVENT
BEGIN:VEVENT
DTSTART;TZID=Europe/Paris:20251001T160000
DTEND;TZID=Europe/Paris:20251001T173000
DTSTAMP:20260420T173531
CREATED:20250730T155946Z
LAST-MODIFIED:20250730T160045Z
UID:53271-1759334400-1759339800@www.auboisdesludes.com
SUMMARY:Ludolire
DESCRIPTION:Lectures et jeux pour toute la famille. \nGratuit.
URL:http://www.auboisdesludes.com/event/ludolire-5/
LOCATION:Bibliothèque de Saint-Thual
ATTACH;FMTTYPE=image/png:http://www.auboisdesludes.com/wp-content/uploads/2025/07/LUDOLIRE-2025-07-23T161143.812.png
END:VEVENT
BEGIN:VEVENT
DTSTART;TZID=Europe/Paris:20251004T150000
DTEND;TZID=Europe/Paris:20251004T170000
DTSTAMP:20260420T173531
CREATED:20250923T082954Z
LAST-MODIFIED:20250923T082954Z
UID:54379-1759590000-1759597200@www.auboisdesludes.com
SUMMARY:Après-midi jeux pour tous
DESCRIPTION:
URL:http://www.auboisdesludes.com/event/apres-midi-jeux-pour-tous-2/
LOCATION:Ludothèque de Tinténiac\, Tinténiac
ATTACH;FMTTYPE=image/png:http://www.auboisdesludes.com/wp-content/uploads/2025/09/Aprem-Sourdsentendants.png
END:VEVENT
BEGIN:VEVENT
DTSTART;TZID=Europe/Paris:20251007T180000
DTEND;TZID=Europe/Paris:20251007T193000
DTSTAMP:20260420T173531
CREATED:20250916T082759Z
LAST-MODIFIED:20250916T082759Z
UID:54271-1759860000-1759865400@www.auboisdesludes.com
SUMMARY:Jouons autour des émotions
DESCRIPTION:
URL:http://www.auboisdesludes.com/event/jouons-autour-des-emotions-3/
LOCATION:Ludothèque de Tinténiac\, Tinténiac
ATTACH;FMTTYPE=image/jpeg:http://www.auboisdesludes.com/wp-content/uploads/2025/09/unnamed.jpg
END:VEVENT
BEGIN:VEVENT
DTSTART;TZID=Europe/Paris:20251009T194500
DTEND;TZID=Europe/Paris:20251009T223000
DTSTAMP:20260420T173531
CREATED:20250910T113446Z
LAST-MODIFIED:20250910T113446Z
UID:54203-1760039100-1760049000@www.auboisdesludes.com
SUMMARY:La fresque du climat
DESCRIPTION:
URL:http://www.auboisdesludes.com/event/la-fresque-du-climat/
LOCATION:Ludothèque de Tinténiac\, Tinténiac
ATTACH;FMTTYPE=image/png:http://www.auboisdesludes.com/wp-content/uploads/2025/09/LUDOLIRE-2025-09-10T132516.724.png
END:VEVENT
BEGIN:VEVENT
DTSTART;TZID=Europe/Paris:20251011T103000
DTEND;TZID=Europe/Paris:20251011T120000
DTSTAMP:20260420T173531
CREATED:20250730T155527Z
LAST-MODIFIED:20250730T155527Z
UID:53264-1760178600-1760184000@www.auboisdesludes.com
SUMMARY:Ludolire
DESCRIPTION:Lectures et jeux de société pour toute la famille. \nGratuit.
URL:http://www.auboisdesludes.com/event/ludolire-3/
LOCATION:Bibliothèque de Bonnemain
ATTACH;FMTTYPE=image/png:http://www.auboisdesludes.com/wp-content/uploads/2025/07/LUDOLIRE-2025-07-23T161031.698.png
END:VEVENT
BEGIN:VEVENT
DTSTART;TZID=Europe/Paris:20251014T180000
DTEND;TZID=Europe/Paris:20251014T193000
DTSTAMP:20260420T173531
CREATED:20250916T082958Z
LAST-MODIFIED:20250916T082958Z
UID:54273-1760464800-1760470200@www.auboisdesludes.com
SUMMARY:Jouons autour des émotions
DESCRIPTION:
URL:http://www.auboisdesludes.com/event/jouons-autour-des-emotions-4/
LOCATION:Ludothèque de Tinténiac\, Tinténiac
ATTACH;FMTTYPE=image/jpeg:http://www.auboisdesludes.com/wp-content/uploads/2025/09/unnamed.jpg
END:VEVENT
BEGIN:VEVENT
DTSTART;TZID=Europe/Paris:20251015T110000
DTEND;TZID=Europe/Paris:20251015T123000
DTSTAMP:20260420T173531
CREATED:20250916T085955Z
LAST-MODIFIED:20250916T085955Z
UID:54280-1760526000-1760531400@www.auboisdesludes.com
SUMMARY:Ludolire émotions à Saint-Pierre-de -Plesguen
DESCRIPTION:1h30 de lecture et de jeu à la médiathèque\, gratuit et ouvert à tous.
URL:http://www.auboisdesludes.com/event/ludolire-emotions-a-saint-pierre-de-plesguen/
LOCATION:Espace culturel Simone Veil Mesnil Roc’h
ATTACH;FMTTYPE=image/jpeg:http://www.auboisdesludes.com/wp-content/uploads/2025/09/LUDOLIRE-9.jpg
END:VEVENT
BEGIN:VEVENT
DTSTART;TZID=Europe/Paris:20251016T193000
DTEND;TZID=Europe/Paris:20251016T210000
DTSTAMP:20260420T173531
CREATED:20250906T095654Z
LAST-MODIFIED:20250906T095654Z
UID:54129-1760643000-1760648400@www.auboisdesludes.com
SUMMARY:Soirée effroi
DESCRIPTION:Jeux de société sur le thème du frisson\, animés par Au Bois des Ludes. \nOuvert à toute la clientèle – restauration sur réservation.
URL:http://www.auboisdesludes.com/event/soiree-effroi/
LOCATION:L’Elixir – 7 Place du Cerf\, Le Tronchet
ATTACH;FMTTYPE=image/jpeg:http://www.auboisdesludes.com/wp-content/uploads/2025/09/ai-generated-9461371_1280.jpg
END:VEVENT
BEGIN:VEVENT
DTSTART;TZID=Europe/Paris:20251022T190000
DTEND;TZID=Europe/Paris:20251022T200000
DTSTAMP:20260420T173531
CREATED:20250923T092016Z
LAST-MODIFIED:20251021T085203Z
UID:54385-1761159600-1761163200@www.auboisdesludes.com
SUMMARY:Soirée louveteau-garou - COMPLET
DESCRIPTION:Sur inscription en ligne uniquement : Mon premier Loup Garou – Au Bois Des Ludes
URL:http://www.auboisdesludes.com/event/soiree-louveteau-garou/
LOCATION:Ludothèque de Tinténiac\, Tinténiac
ATTACH;FMTTYPE=image/png:http://www.auboisdesludes.com/wp-content/uploads/2025/09/LUDOLIRE-47.png
END:VEVENT
BEGIN:VEVENT
DTSTART;TZID=Europe/Paris:20251022T203000
DTEND;TZID=Europe/Paris:20251022T213000
DTSTAMP:20260420T173531
CREATED:20250923T091249Z
LAST-MODIFIED:20250923T091249Z
UID:54382-1761165000-1761168600@www.auboisdesludes.com
SUMMARY:Soirée loup-garou
DESCRIPTION:Sur inscription uniquement en ligne : Soirée Loups Garous – Au Bois Des Ludes
URL:http://www.auboisdesludes.com/event/soiree-loup-garou/
LOCATION:Ludothèque de Tinténiac\, Tinténiac
ATTACH;FMTTYPE=image/png:http://www.auboisdesludes.com/wp-content/uploads/2025/09/LUDOLIRE-46.png
END:VEVENT
BEGIN:VEVENT
DTSTART;TZID=Europe/Paris:20251023T100000
DTEND;TZID=Europe/Paris:20251023T113000
DTSTAMP:20260420T173531
CREATED:20251011T092537Z
LAST-MODIFIED:20251011T092537Z
UID:54749-1761213600-1761219000@www.auboisdesludes.com
SUMMARY:Au coeur des émotions
DESCRIPTION:
URL:http://www.auboisdesludes.com/event/au-coeur-des-emotions/
LOCATION:Ludothèque de Tinténiac\, Tinténiac
ATTACH;FMTTYPE=image/png:http://www.auboisdesludes.com/wp-content/uploads/2025/10/LUDOLIRE-59.png
END:VEVENT
BEGIN:VEVENT
DTSTART;TZID=Europe/Paris:20251023T160000
DTEND;TZID=Europe/Paris:20251023T173000
DTSTAMP:20260420T173531
CREATED:20251007T092216Z
LAST-MODIFIED:20251007T092216Z
UID:54628-1761235200-1761240600@www.auboisdesludes.com
SUMMARY:The Halloween challenge
DESCRIPTION:
URL:http://www.auboisdesludes.com/event/the-halloween-challenge/
LOCATION:Ludothèque de Combourg\, ZR Moulin Madame\, Combourg
ATTACH;FMTTYPE=image/png:http://www.auboisdesludes.com/wp-content/uploads/2025/10/Orange-Black-Simple-Happy-Halloween-Poster-2.png
END:VEVENT
BEGIN:VEVENT
DTSTART;TZID=Europe/Paris:20251029T100000
DTEND;TZID=Europe/Paris:20251029T110000
DTSTAMP:20260420T173531
CREATED:20251011T092023Z
LAST-MODIFIED:20251021T085237Z
UID:54742-1761732000-1761735600@www.auboisdesludes.com
SUMMARY:Bébé joue en musique - COMPLET
DESCRIPTION:
URL:http://www.auboisdesludes.com/event/bebe-joue-en-musique-4/
LOCATION:Ludothèque de Tinténiac\, Tinténiac
ATTACH;FMTTYPE=image/png:http://www.auboisdesludes.com/wp-content/uploads/2025/10/LUDOLIRE-57.png
END:VEVENT
BEGIN:VEVENT
DTSTART;TZID=Europe/Paris:20251029T163000
DTEND;TZID=Europe/Paris:20251029T180000
DTSTAMP:20260420T173531
CREATED:20250730T155033Z
LAST-MODIFIED:20250730T155033Z
UID:53261-1761755400-1761760800@www.auboisdesludes.com
SUMMARY:Ludolire "dans ma famille"
DESCRIPTION:Lectures et jeux pour toute la famille. \nGratuit.
URL:http://www.auboisdesludes.com/event/ludolire-dans-ma-famille/
LOCATION:bibliothèque de Hédé-Bazouges
ATTACH;FMTTYPE=image/png:http://www.auboisdesludes.com/wp-content/uploads/2025/07/LUDOLIRE-2025-07-23T161046.262.png
END:VEVENT
BEGIN:VEVENT
DTSTART;TZID=Europe/Paris:20251030T100000
DTEND;TZID=Europe/Paris:20251030T113000
DTSTAMP:20260420T173531
CREATED:20251011T092758Z
LAST-MODIFIED:20251011T092758Z
UID:54752-1761818400-1761823800@www.auboisdesludes.com
SUMMARY:Accueillir les émotions
DESCRIPTION:
URL:http://www.auboisdesludes.com/event/accueillir-les-emotions/
LOCATION:Ludothèque de Tinténiac\, Tinténiac
ATTACH;FMTTYPE=image/png:http://www.auboisdesludes.com/wp-content/uploads/2025/10/LUDOLIRE-59.png
END:VEVENT
END:VCALENDAR