BEGIN:VCALENDAR
VERSION:2.0
PRODID:-//Au Bois des Ludes - ECPv6.3.2//NONSGML v1.0//EN
CALSCALE:GREGORIAN
METHOD:PUBLISH
X-WR-CALNAME:Au Bois des Ludes
X-ORIGINAL-URL:http://www.auboisdesludes.com
X-WR-CALDESC:évènements pour Au Bois des Ludes
REFRESH-INTERVAL;VALUE=DURATION:PT1H
X-Robots-Tag:noindex
X-PUBLISHED-TTL:PT1H
BEGIN:VTIMEZONE
TZID:Europe/Paris
BEGIN:DAYLIGHT
TZOFFSETFROM:+0100
TZOFFSETTO:+0200
TZNAME:CEST
DTSTART:20250330T010000
END:DAYLIGHT
BEGIN:STANDARD
TZOFFSETFROM:+0200
TZOFFSETTO:+0100
TZNAME:CET
DTSTART:20251026T010000
END:STANDARD
BEGIN:DAYLIGHT
TZOFFSETFROM:+0100
TZOFFSETTO:+0200
TZNAME:CEST
DTSTART:20260329T010000
END:DAYLIGHT
BEGIN:STANDARD
TZOFFSETFROM:+0200
TZOFFSETTO:+0100
TZNAME:CET
DTSTART:20261025T010000
END:STANDARD
END:VTIMEZONE
BEGIN:VEVENT
DTSTART;TZID=Europe/Paris:20251119T160000
DTEND;TZID=Europe/Paris:20260701T180000
DTSTAMP:20260420T021127
CREATED:20251118T100754Z
LAST-MODIFIED:20251118T100754Z
UID:55100-1763568000-1782928800@www.auboisdesludes.com
SUMMARY:Club de tarot à Combourg
DESCRIPTION:
URL:http://www.auboisdesludes.com/event/club-de-tarot-a-combourg/
LOCATION:Ludothèque de Combourg\, ZR Moulin Madame\, Combourg
ATTACH;FMTTYPE=image/png:http://www.auboisdesludes.com/wp-content/uploads/2025/11/LUDOLIRE-62.png
END:VEVENT
BEGIN:VEVENT
DTSTART;TZID=Europe/Paris:20251205T203000
DTEND;TZID=Europe/Paris:20260703T203000
DTSTAMP:20260420T021127
CREATED:20251118T100509Z
LAST-MODIFIED:20251118T100509Z
UID:55094-1764966600-1783110600@www.auboisdesludes.com
SUMMARY:Soirée jeux adultes
DESCRIPTION:Gratuit et ouvert à tous les adultes. \nA 20h30 dans la salle située au-dessus de la médiathèque de Meillac\, face à la mairie. \nMerci beaucoup à la commune de Meillac pour son accueil! \nN’hésitez pas à apporter vos jeux.
URL:http://www.auboisdesludes.com/event/soiree-jeux-adultes-15/
LOCATION:Meillac
ATTACH;FMTTYPE=image/png:http://www.auboisdesludes.com/wp-content/uploads/2025/11/LUDOLIRE-67.png
END:VEVENT
BEGIN:VEVENT
DTSTART;TZID=Europe/Paris:20260204T163000
DTEND;TZID=Europe/Paris:20260204T180000
DTSTAMP:20260420T021127
CREATED:20251216T101234Z
LAST-MODIFIED:20251216T101531Z
UID:55267-1770222600-1770228000@www.auboisdesludes.com
SUMMARY:Ludolire
DESCRIPTION:
URL:http://www.auboisdesludes.com/event/ludolire-11/
LOCATION:Bibliothèque de La Baussaine
ATTACH;FMTTYPE=image/png:http://www.auboisdesludes.com/wp-content/uploads/2025/12/LUDOLIRE-81.png
END:VEVENT
BEGIN:VEVENT
DTSTART;TZID=Europe/Paris:20260207T140000
DTEND;TZID=Europe/Paris:20260704T160000
DTSTAMP:20260420T021127
CREATED:20260131T102618Z
LAST-MODIFIED:20260131T102618Z
UID:55595-1770472800-1783180800@www.auboisdesludes.com
SUMMARY:Club d'échecs
DESCRIPTION:Une rencontre chaque samedi après-midi\, entre 14h et 16h\, pour jouer et progresser dans une ambiance conviviale. \nLa ludothèque de Combourg se situe à l’intérieur du magasin Biocoop.
URL:http://www.auboisdesludes.com/event/club-dechecs-26/
LOCATION:Ludothèque de Combourg\, ZR Moulin Madame\, Combourg
ATTACH;FMTTYPE=image/png:http://www.auboisdesludes.com/wp-content/uploads/2026/01/LUDOLIRE-92.png
END:VEVENT
BEGIN:VEVENT
DTSTART;TZID=Europe/Paris:20260212T100000
DTEND;TZID=Europe/Paris:20260212T103000
DTSTAMP:20260420T021127
CREATED:20251216T094856Z
LAST-MODIFIED:20251216T095422Z
UID:55260-1770890400-1770892200@www.auboisdesludes.com
SUMMARY:Les petites histoires de Mireille
DESCRIPTION:
URL:http://www.auboisdesludes.com/event/les-petites-histoires-de-mireille-2/
LOCATION:Ludothèque de Tinténiac\, Tinténiac
ATTACH;FMTTYPE=image/png:http://www.auboisdesludes.com/wp-content/uploads/2025/12/LUDOLIRE-77.png
END:VEVENT
BEGIN:VEVENT
DTSTART;TZID=Europe/Paris:20260213T200000
DTEND;TZID=Europe/Paris:20260213T233000
DTSTAMP:20260420T021127
CREATED:20260131T093907Z
LAST-MODIFIED:20260208T111059Z
UID:55581-1771012800-1771025400@www.auboisdesludes.com
SUMMARY:Jeu de rôle inédit : 6ème nation COMPLET
DESCRIPTION:
URL:http://www.auboisdesludes.com/event/jeu-de-role-inedit-6eme-nation/
LOCATION:Bibliothèque de Dingé
ATTACH;FMTTYPE=image/png:http://www.auboisdesludes.com/wp-content/uploads/2026/01/affiche-Dinge.png
END:VEVENT
BEGIN:VEVENT
DTSTART;TZID=Europe/Paris:20260214T103000
DTEND;TZID=Europe/Paris:20260214T120000
DTSTAMP:20260420T021127
CREATED:20251209T102433Z
LAST-MODIFIED:20251209T102433Z
UID:55222-1771065000-1771070400@www.auboisdesludes.com
SUMMARY:Ludolire
DESCRIPTION:
URL:http://www.auboisdesludes.com/event/ludolire-8/
LOCATION:Bibliothèque de Bonnemain
ATTACH;FMTTYPE=image/png:http://www.auboisdesludes.com/wp-content/uploads/2025/12/LUDOLIRE-73.png
END:VEVENT
BEGIN:VEVENT
DTSTART;TZID=Europe/Paris:20260217T143000
DTEND;TZID=Europe/Paris:20260217T163000
DTSTAMP:20260420T021127
CREATED:20251118T101101Z
LAST-MODIFIED:20260214T103347Z
UID:55107-1771338600-1771345800@www.auboisdesludes.com
SUMMARY:COMPLET - Cuisine en famille
DESCRIPTION:
URL:http://www.auboisdesludes.com/event/cuisine-en-famille/
LOCATION:Lycée Jeanne Jugan Tinténiac
ATTACH;FMTTYPE=image/png:http://www.auboisdesludes.com/wp-content/uploads/2025/11/LUDOLIRE-63.png
END:VEVENT
BEGIN:VEVENT
DTSTART;TZID=Europe/Paris:20260217T180000
DTEND;TZID=Europe/Paris:20260227T210000
DTSTAMP:20260420T021127
CREATED:20260217T101849Z
LAST-MODIFIED:20260217T101949Z
UID:55720-1771351200-1772226000@www.auboisdesludes.com
SUMMARY:Esacpe game "enquête à Baker Street"
DESCRIPTION:Sherlock Holmes vous met au défi ! \nEscape game à partir de 8 ans\, 45 min de jeux environ. \nInscriptions uniquement via Hello Asso :
URL:http://www.auboisdesludes.com/event/esacpe-game-enquete-a-baker-street/
LOCATION:Le Sim école de musique\, rue de Saint Mirel\, Place Ille et Donac\, Tinténiac\, France
ATTACH;FMTTYPE=image/jpeg:http://www.auboisdesludes.com/wp-content/uploads/2026/02/pexels-marie-claude-vergne-316473708-30443144-scaled.jpg
END:VEVENT
BEGIN:VEVENT
DTSTART;TZID=Europe/Paris:20260218T103000
DTEND;TZID=Europe/Paris:20260218T120000
DTSTAMP:20260420T021127
CREATED:20260127T101829Z
LAST-MODIFIED:20260127T101829Z
UID:55539-1771410600-1771416000@www.auboisdesludes.com
SUMMARY:Ludolire "créatures fantastiques"
DESCRIPTION:1h30 de lecture et jeu à la médiathèque de Meillac. \nGratuit
URL:http://www.auboisdesludes.com/event/ludolire-creatures-fantastiques-2/
LOCATION:Médiathèque de Meillac
ATTACH;FMTTYPE=image/png:http://www.auboisdesludes.com/wp-content/uploads/2026/01/LUDOLIRE-85.png
END:VEVENT
BEGIN:VEVENT
DTSTART;TZID=Europe/Paris:20260218T163000
DTEND;TZID=Europe/Paris:20260218T180000
DTSTAMP:20260420T021127
CREATED:20251206T103138Z
LAST-MODIFIED:20251206T103138Z
UID:55199-1771432200-1771437600@www.auboisdesludes.com
SUMMARY:Ludolire "il fait froid!"
DESCRIPTION:1h30 de jeux et lectures. \nGratuit\, sans inscription.
URL:http://www.auboisdesludes.com/event/ludolire-il-fait-froid/
LOCATION:bibliothèque de Hédé-Bazouges
ATTACH;FMTTYPE=image/png:http://www.auboisdesludes.com/wp-content/uploads/2025/12/LUDOLIRE-71.png
END:VEVENT
BEGIN:VEVENT
DTSTART;TZID=Europe/Paris:20260219T150000
DTEND;TZID=Europe/Paris:20260219T170000
DTSTAMP:20260420T021127
CREATED:20260210T092734Z
LAST-MODIFIED:20260210T092734Z
UID:55653-1771513200-1771520400@www.auboisdesludes.com
SUMMARY:Carnaval
DESCRIPTION:
URL:http://www.auboisdesludes.com/event/carnaval-2/
LOCATION:Salle Noëlys\, Village du Courtil Noë\, Québriac\, Québriac\, France
ATTACH;FMTTYPE=image/jpeg:http://www.auboisdesludes.com/wp-content/uploads/2026/02/Carnaval-2026-scaled.jpg
END:VEVENT
BEGIN:VEVENT
DTSTART;TZID=Europe/Paris:20260220T100000
DTEND;TZID=Europe/Paris:20260220T110000
DTSTAMP:20260420T021127
CREATED:20260217T094352Z
LAST-MODIFIED:20260217T094352Z
UID:55718-1771581600-1771585200@www.auboisdesludes.com
SUMMARY:Bébé écoute et joue
DESCRIPTION:Jouets et lectures sur le thème des animaux sauvages. \nGratuit\, sur inscription : auboisdesludes3522@gmail.com
URL:http://www.auboisdesludes.com/event/bebe-ecoute-et-joue-10/
LOCATION:Ludothèque de Tinténiac\, Tinténiac
ATTACH;FMTTYPE=image/jpeg:http://www.auboisdesludes.com/wp-content/uploads/2023/10/mercrelulu.jpg
END:VEVENT
BEGIN:VEVENT
DTSTART;TZID=Europe/Paris:20260221T203000
DTEND;TZID=Europe/Paris:20260221T203000
DTSTAMP:20260420T021127
CREATED:20260131T101517Z
LAST-MODIFIED:20260131T101517Z
UID:55584-1771705800-1771705800@www.auboisdesludes.com
SUMMARY:Soirée ludiquiz
DESCRIPTION:
URL:http://www.auboisdesludes.com/event/soiree-ludiquiz-3/
LOCATION:Ludothèque de Tinténiac\, Tinténiac
ATTACH;FMTTYPE=image/png:http://www.auboisdesludes.com/wp-content/uploads/2026/01/LUDOLIRE-90.png
END:VEVENT
END:VCALENDAR