BEGIN:VCALENDAR
VERSION:2.0
PRODID:-//Au Bois des Ludes - ECPv6.3.2//NONSGML v1.0//EN
CALSCALE:GREGORIAN
METHOD:PUBLISH
X-WR-CALNAME:Au Bois des Ludes
X-ORIGINAL-URL:http://www.auboisdesludes.com
X-WR-CALDESC:évènements pour Au Bois des Ludes
REFRESH-INTERVAL;VALUE=DURATION:PT1H
X-Robots-Tag:noindex
X-PUBLISHED-TTL:PT1H
BEGIN:VTIMEZONE
TZID:Europe/Paris
BEGIN:DAYLIGHT
TZOFFSETFROM:+0100
TZOFFSETTO:+0200
TZNAME:CEST
DTSTART:20250330T010000
END:DAYLIGHT
BEGIN:STANDARD
TZOFFSETFROM:+0200
TZOFFSETTO:+0100
TZNAME:CET
DTSTART:20251026T010000
END:STANDARD
BEGIN:DAYLIGHT
TZOFFSETFROM:+0100
TZOFFSETTO:+0200
TZNAME:CEST
DTSTART:20260329T010000
END:DAYLIGHT
BEGIN:STANDARD
TZOFFSETFROM:+0200
TZOFFSETTO:+0100
TZNAME:CET
DTSTART:20261025T010000
END:STANDARD
END:VTIMEZONE
BEGIN:VEVENT
DTSTART;TZID=Europe/Paris:20251119T160000
DTEND;TZID=Europe/Paris:20260701T180000
DTSTAMP:20260419T223356
CREATED:20251118T100754Z
LAST-MODIFIED:20251118T100754Z
UID:55100-1763568000-1782928800@www.auboisdesludes.com
SUMMARY:Club de tarot à Combourg
DESCRIPTION:
URL:http://www.auboisdesludes.com/event/club-de-tarot-a-combourg/
LOCATION:Ludothèque de Combourg\, ZR Moulin Madame\, Combourg
ATTACH;FMTTYPE=image/png:http://www.auboisdesludes.com/wp-content/uploads/2025/11/LUDOLIRE-62.png
END:VEVENT
BEGIN:VEVENT
DTSTART;TZID=Europe/Paris:20251205T203000
DTEND;TZID=Europe/Paris:20260703T203000
DTSTAMP:20260419T223356
CREATED:20251118T100509Z
LAST-MODIFIED:20251118T100509Z
UID:55094-1764966600-1783110600@www.auboisdesludes.com
SUMMARY:Soirée jeux adultes
DESCRIPTION:Gratuit et ouvert à tous les adultes. \nA 20h30 dans la salle située au-dessus de la médiathèque de Meillac\, face à la mairie. \nMerci beaucoup à la commune de Meillac pour son accueil! \nN’hésitez pas à apporter vos jeux.
URL:http://www.auboisdesludes.com/event/soiree-jeux-adultes-15/
LOCATION:Meillac
ATTACH;FMTTYPE=image/png:http://www.auboisdesludes.com/wp-content/uploads/2025/11/LUDOLIRE-67.png
END:VEVENT
BEGIN:VEVENT
DTSTART;TZID=Europe/Paris:20260207T140000
DTEND;TZID=Europe/Paris:20260704T160000
DTSTAMP:20260419T223356
CREATED:20260131T102618Z
LAST-MODIFIED:20260131T102618Z
UID:55595-1770472800-1783180800@www.auboisdesludes.com
SUMMARY:Club d'échecs
DESCRIPTION:Une rencontre chaque samedi après-midi\, entre 14h et 16h\, pour jouer et progresser dans une ambiance conviviale. \nLa ludothèque de Combourg se situe à l’intérieur du magasin Biocoop.
URL:http://www.auboisdesludes.com/event/club-dechecs-26/
LOCATION:Ludothèque de Combourg\, ZR Moulin Madame\, Combourg
ATTACH;FMTTYPE=image/png:http://www.auboisdesludes.com/wp-content/uploads/2026/01/LUDOLIRE-92.png
END:VEVENT
BEGIN:VEVENT
DTSTART;TZID=Europe/Paris:20260307T103000
DTEND;TZID=Europe/Paris:20260307T120000
DTSTAMP:20260419T223356
CREATED:20260127T095752Z
LAST-MODIFIED:20260127T095752Z
UID:55532-1772879400-1772884800@www.auboisdesludes.com
SUMMARY:Ludolire "dans la forêt"
DESCRIPTION:1h30 de lecture et jeu sur le thème de la forêt. \nGratuit.
URL:http://www.auboisdesludes.com/event/ludolire-dans-la-foret-6/
LOCATION:Bibliothèque de Saint-Domineuc
ATTACH;FMTTYPE=image/png:http://www.auboisdesludes.com/wp-content/uploads/2026/01/LUDOLIRE-88.png
END:VEVENT
BEGIN:VEVENT
DTSTART;TZID=Europe/Paris:20260308T100000
DTEND;TZID=Europe/Paris:20260308T120000
DTSTAMP:20260419T223356
CREATED:20260131T102235Z
LAST-MODIFIED:20260131T102235Z
UID:55590-1772964000-1772971200@www.auboisdesludes.com
SUMMARY:Un dimanche au coin du jeu
DESCRIPTION:
URL:http://www.auboisdesludes.com/event/un-dimanche-au-coin-du-jeu-15/
LOCATION:Ludothèque de Tinténiac\, Tinténiac
ATTACH;FMTTYPE=image/png:http://www.auboisdesludes.com/wp-content/uploads/2026/01/LUDOLIRE-93.png
END:VEVENT
BEGIN:VEVENT
DTSTART;TZID=Europe/Paris:20260312T100000
DTEND;TZID=Europe/Paris:20260312T103000
DTSTAMP:20260419T223356
CREATED:20251216T095004Z
LAST-MODIFIED:20251216T095537Z
UID:55262-1773309600-1773311400@www.auboisdesludes.com
SUMMARY:Les petites histoires de Mireille
DESCRIPTION:
URL:http://www.auboisdesludes.com/event/les-petites-histoires-de-mireille-3/
LOCATION:Ludothèque de Tinténiac\, Tinténiac
ATTACH;FMTTYPE=image/png:http://www.auboisdesludes.com/wp-content/uploads/2025/12/LUDOLIRE-77.png
END:VEVENT
BEGIN:VEVENT
DTSTART;TZID=Europe/Paris:20260314T103000
DTEND;TZID=Europe/Paris:20260314T120000
DTSTAMP:20260419T223356
CREATED:20260127T100102Z
LAST-MODIFIED:20260127T100102Z
UID:55535-1773484200-1773489600@www.auboisdesludes.com
SUMMARY:Ludolire "chats & souris"
DESCRIPTION:1h30 de lecture et de jeu sur le thème « chats & souris ». \nGratuit
URL:http://www.auboisdesludes.com/event/ludolire-chats-souris/
LOCATION:Médiathèque de Tinténiac\, Place Jean Provost\, Tinténiac\, France
ATTACH;FMTTYPE=image/png:http://www.auboisdesludes.com/wp-content/uploads/2026/01/LUDOLIRE-86.png
END:VEVENT
BEGIN:VEVENT
DTSTART;TZID=Europe/Paris:20260328T100000
DTEND;TZID=Europe/Paris:20260328T110000
DTSTAMP:20260419T223356
CREATED:20260321T101857Z
LAST-MODIFIED:20260321T101857Z
UID:56146-1774692000-1774695600@www.auboisdesludes.com
SUMMARY:Matinée bébélud "dans mon jardin"
DESCRIPTION:
URL:http://www.auboisdesludes.com/event/matinee-bebelud-dans-mon-jardin/
LOCATION:Salle Noëlys\, Village du Courtil Noë\, Québriac\, Québriac\, France
ATTACH;FMTTYPE=image/jpeg:http://www.auboisdesludes.com/wp-content/uploads/2026/03/Matinee-jeux-2803_page-0001-scaled.jpg
END:VEVENT
END:VCALENDAR